BEGIN:VCALENDAR
VERSION:2.0
PRODID:-//Pankratos - ECPv6.11.2.1//NONSGML v1.0//EN
CALSCALE:GREGORIAN
METHOD:PUBLISH
X-ORIGINAL-URL:https://pankratos.nl
X-WR-CALDESC:Evenementen voor Pankratos
REFRESH-INTERVAL;VALUE=DURATION:PT1H
X-Robots-Tag:noindex
X-PUBLISHED-TTL:PT1H
BEGIN:VTIMEZONE
TZID:UTC
BEGIN:STANDARD
TZOFFSETFROM:+0000
TZOFFSETTO:+0000
TZNAME:UTC
DTSTART:20220101T000000
END:STANDARD
END:VTIMEZONE
BEGIN:VEVENT
DTSTART;TZID=UTC:20220722T193000
DTEND;TZID=UTC:20220722T203000
DTSTAMP:20260422T105606
CREATED:20240113T181240Z
LAST-MODIFIED:20240113T181240Z
UID:5112-1658518200-1658521800@pankratos.nl
SUMMARY:HIIT training
DESCRIPTION:HIIT training onder leiding van Luc van Hal
URL:https://pankratos.nl/activiteit/hiit-training-2/
LOCATION:Shizentai\, Kon. Wilhelminastraat 12\, Wehl\, gelderland\, 7031 AC
END:VEVENT
END:VCALENDAR