BEGIN:VCALENDAR
VERSION:2.0
PRODID:-//Pankratos - ECPv6.11.2.1//NONSGML v1.0//EN
CALSCALE:GREGORIAN
METHOD:PUBLISH
X-WR-CALNAME:Pankratos
X-ORIGINAL-URL:https://pankratos.nl
X-WR-CALDESC:Evenementen voor Pankratos
REFRESH-INTERVAL;VALUE=DURATION:PT1H
X-Robots-Tag:noindex
X-PUBLISHED-TTL:PT1H
BEGIN:VTIMEZONE
TZID:UTC
BEGIN:STANDARD
TZOFFSETFROM:+0000
TZOFFSETTO:+0000
TZNAME:UTC
DTSTART:20210101T000000
END:STANDARD
END:VTIMEZONE
BEGIN:VEVENT
DTSTART;TZID=UTC:20211204T110000
DTEND;TZID=UTC:20211204T120000
DTSTAMP:20260423T024506
CREATED:20240113T174537Z
LAST-MODIFIED:20240113T174537Z
UID:5099-1638615600-1638619200@pankratos.nl
SUMMARY:HIIT training
DESCRIPTION:Bij Warrior gym\, Doetinchem onder leiding van Nale Omeragic. Dit was tevens de afsluiting van kwartaal 4 van 2021.
URL:https://pankratos.nl/activiteit/hiit-training/
END:VEVENT
END:VCALENDAR