BEGIN:VCALENDAR
VERSION:2.0
PRODID:-//Pankratos - ECPv6.11.2.1//NONSGML v1.0//EN
CALSCALE:GREGORIAN
METHOD:PUBLISH
X-WR-CALNAME:Pankratos
X-ORIGINAL-URL:https://pankratos.nl
X-WR-CALDESC:Evenementen voor Pankratos
REFRESH-INTERVAL;VALUE=DURATION:PT1H
X-Robots-Tag:noindex
X-PUBLISHED-TTL:PT1H
BEGIN:VTIMEZONE
TZID:UTC
BEGIN:STANDARD
TZOFFSETFROM:+0000
TZOFFSETTO:+0000
TZNAME:UTC
DTSTART:20220101T000000
END:STANDARD
END:VTIMEZONE
BEGIN:VEVENT
DTSTART;TZID=UTC:20221022T130000
DTEND;TZID=UTC:20221022T140000
DTSTAMP:20260421T212542
CREATED:20240113T181810Z
LAST-MODIFIED:20240113T181810Z
UID:5117-1666443600-1666447200@pankratos.nl
SUMMARY:Seminar Mo Deniz
DESCRIPTION:
URL:https://pankratos.nl/activiteit/seminar-mo-deniz/
LOCATION:Shizentai\, Kon. Wilhelminastraat 12\, Wehl\, gelderland\, 7031 AC
END:VEVENT
END:VCALENDAR